BEGIN:VCALENDAR
PRODID:-//eluceo/ical//2.0/EN
VERSION:2.0
CALSCALE:GREGORIAN
BEGIN:VEVENT
UID:76cc41af7ee40a29a63eedf79aac72cc
DTSTAMP:20260421T142341Z
SUMMARY:10 AM Women's Philanthropy LEAD
DESCRIPTION:Jewish Federation & Foundation of Northeast Florida\nCommunity 
 Calendar\nhttps://jewishjacksonville.org/jewish-federation-of-jacksonville
 -calendar/womens-philanthropy-lead_oct\n\nProgram 2\, Jewish Values and I
 dentity\n\n 
DTSTART;TZID=America/New_York:20221013T100000
DTEND;TZID=America/New_York:20221013T120000
END:VEVENT
END:VCALENDAR
