BEGIN:VCALENDAR
PRODID:-//eluceo/ical//2.0/EN
VERSION:2.0
CALSCALE:GREGORIAN
BEGIN:VEVENT
UID:9222836ba2b6290132a5ca3a77f17a23
DTSTAMP:20260423T192333Z
SUMMARY:Women's Philanthropy Connections!
DESCRIPTION:Jewish Federation & Foundation of Northeast Florida\nCommunity 
 Calendar\nhttps://jewishjacksonville.org/jewish-federation-of-jacksonville
 -calendar/womens-philanthropy-connections-November\n\nPlease join us to le
 arn about the role 16 Rabbis played in the fight to integrate St.Augustine
  during the Civil Rights Movement.\n\nRabbi Merrill Shapiro\, President of
  the St. Augustine Jewish Historical Society\, will speak about the larges
 t mass arrest of rabbis in U.S. history\, the St. Augustine movement\, and
  the Jewish community response to events leading up to the summer of 1964.
  \n\nRegister at :\n\nhttps://events.idonate.com/novemberconnections
DTSTART;TZID=America/New_York:20221103T190000
DTEND;TZID=America/New_York:20221103T210000
END:VEVENT
END:VCALENDAR
