BEGIN:VCALENDAR
PRODID:-//eluceo/ical//2.0/EN
VERSION:2.0
CALSCALE:GREGORIAN
BEGIN:VEVENT
UID:0ea355a0da3dbda2270383c5363dc6e0
DTSTAMP:20260422T125211Z
SUMMARY:Women's Philanthropy Champagne Brunch
DESCRIPTION:Jewish Federation & Foundation of Northeast Florida\nCommunity 
 Calendar\nhttps://jewishjacksonville.org/jewish-federation-of-jacksonville
 -calendar/womens-philanthropy-champagne-brunch\n\n2023 Women's Philanthrop
 y Champagne Brunch \n\n 
DTSTART;TZID=America/New_York:20230122T100000
DTEND;TZID=America/New_York:20230122T120000
END:VEVENT
END:VCALENDAR
