BEGIN:VCALENDAR
PRODID:-//eluceo/ical//2.0/EN
VERSION:2.0
CALSCALE:GREGORIAN
BEGIN:VEVENT
UID:515ff8f865ba7374892e9bce2d5cf7fd
DTSTAMP:20260424T162332Z
SUMMARY:12:00 PM Women's Division Steering Committee Meeting
DESCRIPTION:Jewish Federation & Foundation of Northeast Florida\nCommunity 
 Calendar\nhttps://jewishjacksonville.org/jewish-federation-of-jacksonville
 -calendar/womens-division-steering-committee-meeting-4\n\nWomen's Division
  Steering Committee Meeting 
DTSTART;TZID=America/New_York:20170503T120000
DTEND;TZID=America/New_York:20170503T130000
END:VEVENT
END:VCALENDAR
