BEGIN:VCALENDAR
PRODID:-//eluceo/ical//2.0/EN
VERSION:2.0
CALSCALE:GREGORIAN
BEGIN:VEVENT
UID:1341231fbef63d89ff21b02d6f59f2ac
DTSTAMP:20260424T050520Z
SUMMARY:9:15AM Etz Chaim Wifi- Women's Informal Inspiration
DESCRIPTION:Jewish Federation & Foundation of Northeast Florida\nCommunity 
 Calendar\nhttps://jewishjacksonville.org/jewish-federation-of-jacksonville
 -calendar/wifi-womens-informal-inspiration\n\nWIFI- Class\n\nWednesday\, 
  September 10th at 9:15am\n\nRabbi Feigenbaum will teach this class.\n\nEm
 ily Rosenbaum will graciously host.  
DTSTART;TZID=America/New_York:20140910T091500
DTEND;TZID=America/New_York:20140910T101500
END:VEVENT
END:VCALENDAR
