BEGIN:VCALENDAR
PRODID:-//eluceo/ical//2.0/EN
VERSION:2.0
CALSCALE:GREGORIAN
BEGIN:VEVENT
UID:38c9eef65a1b7869b003b7ffbf187d1f
DTSTAMP:20260421T224958Z
SUMMARY:WIFI Challah Bake with Andrea Mail
DESCRIPTION:Jewish Federation & Foundation of Northeast Florida\nCommunity 
 Calendar\nhttps://jewishjacksonville.org/jewish-federation-of-jacksonville
 -calendar/wifi-challah-bake-with\n\nCome and join us for a special ladies-
 only  Challah event at Andrea Mail's Home. There will be a special class 
 on the mystical meaning behind the baking Challah and at the end of the ev
 ening you will go home with your very own Challah.
DTSTART;TZID=America/New_York:20151022T190000
DTEND;TZID=America/New_York:20151022T210000
END:VEVENT
END:VCALENDAR
