BEGIN:VCALENDAR
PRODID:-//eluceo/ical//2.0/EN
VERSION:2.0
CALSCALE:GREGORIAN
BEGIN:VEVENT
UID:3ea3234f7f36c94f37e7e557c8cdd268
DTSTAMP:20260422T230800Z
SUMMARY:Veteran's Day
DESCRIPTION:Jewish Federation & Foundation of Northeast Florida\nCommunity 
 Calendar\nhttps://jewishjacksonville.org/jewish-federation-of-jacksonville
 -calendar/veterans-day\n\nHoliday - Veteran's Day
DTSTART;TZID=America/New_York:20141111T000000
DTEND;TZID=America/New_York:20141111T235500
END:VEVENT
END:VCALENDAR
