BEGIN:VCALENDAR
PRODID:-//eluceo/ical//2.0/EN
VERSION:2.0
CALSCALE:GREGORIAN
BEGIN:VEVENT
UID:011e9eb9355bb4770e569babb629a986
DTSTAMP:20260421T111129Z
SUMMARY:10:30AM Etz Chaim Unlock the Closed Book
DESCRIPTION:Jewish Federation & Foundation of Northeast Florida\nCommunity 
 Calendar\nhttps://jewishjacksonville.org/jewish-federation-of-jacksonville
 -calendar/unlock-the-closed-book\n\nMen and Women are Welcome!\n\nLively E
 xplanatory\n\nPrayer Experience\n\nThe class will take place in the shul\n
 \nJoin Rabbi Feigenbaum every Wednesday
DTSTART;TZID=America/New_York:20140920T103000
DTEND;TZID=America/New_York:20140920T111500
END:VEVENT
END:VCALENDAR
