BEGIN:VCALENDAR
PRODID:-//eluceo/ical//2.0/EN
VERSION:2.0
CALSCALE:GREGORIAN
BEGIN:VEVENT
UID:70d2a5ee735e84943754734fb5b0aa34
DTSTAMP:20260421T142503Z
SUMMARY:Torah Academy Sept Board Meeting
DESCRIPTION:Jewish Federation & Foundation of Northeast Florida\nCommunity 
 Calendar\nhttps://jewishjacksonville.org/jewish-federation-of-jacksonville
 -calendar/torah-academy-sept-board-meeting\n\nTorah Academy Board Meeting
DTSTART;TZID=America/New_York:20190919T180000
DTEND;TZID=America/New_York:20190919T190000
END:VEVENT
END:VCALENDAR
