BEGIN:VCALENDAR
PRODID:-//eluceo/ical//2.0/EN
VERSION:2.0
CALSCALE:GREGORIAN
BEGIN:VEVENT
UID:36a583f174d9971ba788624757291ee6
DTSTAMP:20260421T030737Z
SUMMARY:6:00 PM - Torah Academy of Jacksonville Annual Dinner
DESCRIPTION:Jewish Federation & Foundation of Northeast Florida\nCommunity 
 Calendar\nhttps://jewishjacksonville.org/jewish-federation-of-jacksonville
 -calendar/torah-academy-of-jacksonville-annual-dinner\n\nFundraising Dinne
 r
DTSTART;TZID=America/New_York:20170521T180000
DTEND;TZID=America/New_York:20170521T210000
END:VEVENT
END:VCALENDAR
