BEGIN:VCALENDAR
PRODID:-//eluceo/ical//2.0/EN
VERSION:2.0
CALSCALE:GREGORIAN
BEGIN:VEVENT
UID:d0279125fd15e09dba8e1c5eff7604d7
DTSTAMP:20260421T211814Z
SUMMARY:7 PM - The Pharasaic  Revolution: Torah Means What the Rabbis Say i
 t Means
DESCRIPTION:Jewish Federation & Foundation of Northeast Florida\nCommunity 
 Calendar\nhttps://jewishjacksonville.org/jewish-federation-of-jacksonville
 -calendar/the-pharasaic-era\n\nThe Pharisaic Revolution:  The Torah Means
  What the Rabbis Say It Means\n\nTuesdays February 28\, March 7\, March 14
 \, March 28 & April 4 at 7:00 pm\n\nFrom the 1st century BCE through the
  5th century CE\, the Rabbis of the Mishna and Talmud introduced many radi
 cal innovations into the life of ancient Israel\, innovations which began 
 to create the Judaism that we recognize today. This mini-course taught by 
 Rabbi Shapiro will explore some key examples of these innovations as well 
 as the process ...
DTSTART;TZID=America/New_York:20170307T190000
DTEND;TZID=America/New_York:20170307T203000
END:VEVENT
END:VCALENDAR
