BEGIN:VCALENDAR
PRODID:-//eluceo/ical//2.0/EN
VERSION:2.0
CALSCALE:GREGORIAN
BEGIN:VEVENT
UID:6bffd5babcce32c450855ec18e5a2ee0
DTSTAMP:20260424T133333Z
SUMMARY:The Major Gifts Event 7-8pm
DESCRIPTION:Jewish Federation & Foundation of Northeast Florida\nCommunity 
 Calendar\nhttps://jewishjacksonville.org/jewish-federation-of-jacksonville
 -calendar/the-major-gifts-event\n\nMajor Gifts Event
DTSTART;TZID=America/New_York:20201214T190000
DTEND;TZID=America/New_York:20201214T200000
END:VEVENT
END:VCALENDAR
