BEGIN:VCALENDAR
PRODID:-//eluceo/ical//2.0/EN
VERSION:2.0
CALSCALE:GREGORIAN
BEGIN:VEVENT
UID:6ee1d85ebb42f5d4f921f0a3ce8aef54
DTSTAMP:20260421T194432Z
SUMMARY:The LJD JFCS Annual Fundraiser (Date 2)
DESCRIPTION:Jewish Federation & Foundation of Northeast Florida\nCommunity 
 Calendar\nhttps://jewishjacksonville.org/jewish-federation-of-jacksonville
 -calendar/the-ljd-jfcs-annual-fundraiser-date-2\n\nThe LJD JFCS Annual Fun
 draiser \n\nMore information to come soon. 
DTSTART;TZID=America/New_York:20230420T170000
DTEND;TZID=America/New_York:20230420T210000
END:VEVENT
END:VCALENDAR
