BEGIN:VCALENDAR
PRODID:-//eluceo/ical//2.0/EN
VERSION:2.0
CALSCALE:GREGORIAN
BEGIN:VEVENT
UID:d5868245d79d7b44f055db5bb492db86
DTSTAMP:20260420T174003Z
SUMMARY:The Jacksonville Kollel's Annual Purim Party
DESCRIPTION:Jewish Federation & Foundation of Northeast Florida\nCommunity 
 Calendar\nhttps://jewishjacksonville.org/jewish-federation-of-jacksonville
 -calendar/the-jacksonville-kollels-annual-purim-party\n\nThe Jacksonville 
 Kollel's Annual Purim Party \nYou won’t want to miss the Kollel’s ann
 ual Purim celebration!  – Adults Only\n\nDate: Monday\, March 2\nTime: 
 8:30 PM\nOptional Megillah Reading: 9:00 PM\nCost: $18 per person\nRegiste
 r: https://gqr.sh/hEWc \n\nFor Sponsorship Opportunities or more info: 
 \n\nCall or text Rabbi Moshe Sanders at 401-441-2299
DTSTART;TZID=America/New_York:20260302T203000
DTEND;TZID=America/New_York:20260302T223000
END:VEVENT
END:VCALENDAR
