BEGIN:VCALENDAR
PRODID:-//eluceo/ical//2.0/EN
VERSION:2.0
CALSCALE:GREGORIAN
BEGIN:VEVENT
UID:a12029c8f43481afbd796c9dde6e6d0f
DTSTAMP:20260421T030627Z
SUMMARY:3 PM - JCA - The Berman Family JCA Concert Series featuring Risa Ho
 kamura
DESCRIPTION:Jewish Federation & Foundation of Northeast Florida\nCommunity 
 Calendar\nhttps://jewishjacksonville.org/jewish-federation-of-jacksonville
 -calendar/the-berman-family-jca-concert-series-02\n\nAnnouncing the 2023 B
 erman Family JCA Concert Series! \n\nRisa Hokamura\, Violin\nSun\, Feb 5
  | 3 pm \n\nRisa Hokamura started playing the violin at three years old a
 nd by ten she captured top prizes in competitions in Japan. Risa first cam
 e to international attention in 2018 when she won the Silver Medal at Inte
 rnational Violin Competition of Indianapolis\, performing the Tchaikovsky 
 Concerto with the Indianapolis Symphony. This season\, Risa will perform i
 n recital at the Morgan Library & Mu...
DTSTART;TZID=America/New_York:20230205T150000
DTEND;TZID=America/New_York:20230205T170000
END:VEVENT
END:VCALENDAR
