BEGIN:VCALENDAR
PRODID:-//eluceo/ical//2.0/EN
VERSION:2.0
CALSCALE:GREGORIAN
BEGIN:VEVENT
UID:937f2c7a3188c7626e920317ed006587
DTSTAMP:20260425T185531Z
SUMMARY:Thanksgiving Day 2014
DESCRIPTION:Jewish Federation & Foundation of Northeast Florida\nCommunity 
 Calendar\nhttps://jewishjacksonville.org/jewish-federation-of-jacksonville
 -calendar/thanksgiving-day-2014\n\nHoliday - Thanksgiving Day
DTSTART;TZID=America/New_York:20141127T000000
DTEND;TZID=America/New_York:20141127T235500
END:VEVENT
END:VCALENDAR
