BEGIN:VCALENDAR
PRODID:-//eluceo/ical//2.0/EN
VERSION:2.0
CALSCALE:GREGORIAN
BEGIN:VEVENT
UID:2234feba6b3a7a7055921330682798ec
DTSTAMP:20260422T193632Z
SUMMARY:JCA 1PM TH-PAC Show
DESCRIPTION:Jewish Federation & Foundation of Northeast Florida\nCommunity 
 Calendar\nhttps://jewishjacksonville.org/jewish-federation-of-jacksonville
 -calendar/th-pac-show\n\nVisit our site to learn more!
DTSTART;TZID=America/New_York:20190303T130000
DTEND;TZID=America/New_York:20190303T150000
END:VEVENT
END:VCALENDAR
