BEGIN:VCALENDAR
PRODID:-//eluceo/ical//2.0/EN
VERSION:2.0
CALSCALE:GREGORIAN
BEGIN:VEVENT
UID:f1fa1a2774e400b3931093c4defe2183
DTSTAMP:20260421T175357Z
SUMMARY:Temple Shabbaton with Rabbi Gary Zola
DESCRIPTION:Jewish Federation & Foundation of Northeast Florida\nCommunity 
 Calendar\nhttps://jewishjacksonville.org/jewish-federation-of-jacksonville
 -calendar/temple-shabbaton-with-rabbi-gary-zola\n\nTemple Shabbaton with R
 abbi Gary Zola\n\n \n\n​Rabbi Zola will speak at Friday evening worsh
 ip at 7 pm\; at Kiddush Lunch Shabbat at noon and at Community Breakfas
 t at 10 am
DTSTART;TZID=America/New_York:20171201T190000
DTEND;TZID=America/New_York:20171203T120000
END:VEVENT
END:VCALENDAR
