BEGIN:VCALENDAR
PRODID:-//eluceo/ical//2.0/EN
VERSION:2.0
CALSCALE:GREGORIAN
BEGIN:VEVENT
UID:50deacdcc23d51a36519284d58779599
DTSTAMP:20260426T024937Z
SUMMARY:Temple Office Closed- Sukkot
DESCRIPTION:Jewish Federation & Foundation of Northeast Florida\nCommunity 
 Calendar\nhttps://jewishjacksonville.org/jewish-federation-of-jacksonville
 -calendar/temple-office-closed-sukkot\n\nOffice Closed
DTSTART;TZID=America/New_York:20150928T000000
DTEND;TZID=America/New_York:20150928T235959
END:VEVENT
END:VCALENDAR
