BEGIN:VCALENDAR
PRODID:-//eluceo/ical//2.0/EN
VERSION:2.0
CALSCALE:GREGORIAN
BEGIN:VEVENT
UID:671e964fef97e3d13938ee8b5f43b924
DTSTAMP:20260420T012855Z
SUMMARY:Temple Bet Yam's Pizza and Bingo night for the entire community
DESCRIPTION:Jewish Federation & Foundation of Northeast Florida\nCommunity 
 Calendar\nhttps://jewishjacksonville.org/jewish-federation-of-jacksonville
 -calendar/temple-bet-yams-pizza-and-bingo-night-for-the-entire-community\n
 \nBINGO & PIZZA NIGHT IS HERE! This fun and food event is once again open 
 to the community. It will be held at Temple Bet Yam\, 2055 Wildwood Dr.\, 
 (just off of SR 207 in St Augustine) on May 7th at 6:00 PM. For a $15 per 
 person cover\, enjoy a full night of bingo\, cash prizes\, and a complete 
 pizza dinner. Make checks payable to Temple Bet Yam and note ‘Bingo-Pizz
 a’ in the memo. Contact Carol Levy at 954-895-7332 or  carollevy1951@ya
 hoo.com for information. Your reservation (see flyer for res...
DTSTART;TZID=America/New_York:20220507T180000
DTEND;TZID=America/New_York:20220507T220000
END:VEVENT
END:VCALENDAR
