BEGIN:VCALENDAR
PRODID:-//eluceo/ical//2.0/EN
VERSION:2.0
CALSCALE:GREGORIAN
BEGIN:VEVENT
UID:0199d85f48949685f46d3fe53e4a5aef
DTSTAMP:20260422T041411Z
SUMMARY:Temple Bet Yam Shabbat Service and Torah Study
DESCRIPTION:Jewish Federation & Foundation of Northeast Florida\nCommunity 
 Calendar\nhttps://jewishjacksonville.org/jewish-federation-of-jacksonville
 -calendar/temple-bet-yam-shabbat-service-and-torah-study\n\nRabbo Nadia Si
 ritsky will lead a short Shabbat Service which will be followed by a Torah
  study of this week's Parsha.
DTSTART;TZID=America/New_York:20201121T110000
DTEND;TZID=America/New_York:20201121T120000
END:VEVENT
END:VCALENDAR
