BEGIN:VCALENDAR
PRODID:-//eluceo/ical//2.0/EN
VERSION:2.0
CALSCALE:GREGORIAN
BEGIN:VEVENT
UID:689a99e8307f6126396a292a2761a12e
DTSTAMP:20260423T230038Z
SUMMARY:Temple Bet Yam Celebrates Pesach with a Community Passover Seder
DESCRIPTION:Jewish Federation & Foundation of Northeast Florida\nCommunity 
 Calendar\nhttps://jewishjacksonville.org/jewish-federation-of-jacksonville
 -calendar/temple-bet-yam-passover-seder\n\nTemple Bet Yam\, St Augustine\
 , invites you to our Passover seder led by Rabbi Kogon on April 15\, 2022\
 , at 6 PM. RSVP by April 1\, 2022. For information\, contact TBY office 9
 04-819-1875 or Teresa Freedman 774-994-2066.
DTSTART;TZID=America/New_York:20220415T180000
DTEND;TZID=America/New_York:20220415T210000
END:VEVENT
END:VCALENDAR
