BEGIN:VCALENDAR
PRODID:-//eluceo/ical//2.0/EN
VERSION:2.0
CALSCALE:GREGORIAN
BEGIN:VEVENT
UID:fa69e9f2b131cb49112dfb6bc2fc5a51
DTSTAMP:20260425T210729Z
SUMMARY:Teacher Night at the Frisch Family Holocaust Memorial Gallery
DESCRIPTION:Jewish Federation & Foundation of Northeast Florida\nCommunity 
 Calendar\nhttps://jewishjacksonville.org/jewish-federation-of-jacksonville
 -calendar/teacher-night-at-the-frisch-family-holocaust-memorial-gallery\n\
 nDetails to come
DTSTART;TZID=America/New_York:20230914T000000
DTEND;TZID=America/New_York:20230914T235959
END:VEVENT
END:VCALENDAR
