BEGIN:VCALENDAR
PRODID:-//eluceo/ical//2.0/EN
VERSION:2.0
CALSCALE:GREGORIAN
BEGIN:VEVENT
UID:868d369b170ccc0087888415c35ae124
DTSTAMP:20260422T181327Z
SUMMARY:TBA Jacksonville Jewish Educators Council Meeting
DESCRIPTION:Jewish Federation & Foundation of Northeast Florida\nCommunity 
 Calendar\nhttps://jewishjacksonville.org/jewish-federation-of-jacksonville
 -calendar/tba-jacksonville-jewish-educators-council-meeting\n\nJacksonvill
 e Jewish Educators Council meet and greet with Community Shlicha Dana Marm
 ari \n\nTime - TBA\nLocation - TBA
DTSTART;TZID=America/New_York:20161019T000000
DTEND;TZID=America/New_York:20161019T235900
END:VEVENT
END:VCALENDAR
