BEGIN:VCALENDAR
PRODID:-//eluceo/ical//2.0/EN
VERSION:2.0
CALSCALE:GREGORIAN
BEGIN:VEVENT
UID:13c357025850deb0d8ed59dfe132c581
DTSTAMP:20260424T132147Z
SUMMARY:Federation Super Sunday 2020
DESCRIPTION:Jewish Federation & Foundation of Northeast Florida\nCommunity 
 Calendar\nhttps://jewishjacksonville.org/jewish-federation-of-jacksonville
 -calendar/super-sunday-2020\n\nFederation's Super Sunday\n\nFebruary 23\, 
 2020
DTSTART;TZID=America/New_York:20200223T000000
DTEND;TZID=America/New_York:20200223T235959
END:VEVENT
END:VCALENDAR
