BEGIN:VCALENDAR
PRODID:-//eluceo/ical//2.0/EN
VERSION:2.0
CALSCALE:GREGORIAN
BEGIN:VEVENT
UID:02dbd9c68d736543e5273ed02f049db1
DTSTAMP:20260422T005658Z
SUMMARY:Hadassah "Nature Walk"
DESCRIPTION:Jewish Federation & Foundation of Northeast Florida\nCommunity 
 Calendar\nhttps://jewishjacksonville.org/jewish-federation-of-jacksonville
 -calendar/sun-january-16-2022-1030-am-nature-walk-led-by-karen-morse-manda
 rin-park-14780-mandarin-road\n\nGet ready for Tu'Bshevat as Karen Morse le
 ads us on a nature walk in Mandarin Park.
DTSTART;TZID=America/New_York:20220116T103000
DTEND;TZID=America/New_York:20220116T120000
END:VEVENT
END:VCALENDAR
