BEGIN:VCALENDAR
PRODID:-//eluceo/ical//2.0/EN
VERSION:2.0
CALSCALE:GREGORIAN
BEGIN:VEVENT
UID:9b7952af94a978546c780e3c261de0a0
DTSTAMP:20260424T145829Z
SUMMARY:10am JFFNF WP Connections Jewish St. Augustine Walking Tour
DESCRIPTION:Jewish Federation & Foundation of Northeast Florida\nCommunity 
 Calendar\nhttps://jewishjacksonville.org/jewish-federation-of-jacksonville
 -calendar/st-augustine-walking-tour-MAR2025\n\nWomen's Philanthropy Connec
 tions\n\nJewish St. Augustine Walking Tour\n\nThursday\, March 6\, 2025\n\
 n10:00 am-12:15 pm
DTSTART;TZID=America/New_York:20250306T100000
DTEND;TZID=America/New_York:20250306T121500
END:VEVENT
END:VCALENDAR
