BEGIN:VCALENDAR
PRODID:-//eluceo/ical//2.0/EN
VERSION:2.0
CALSCALE:GREGORIAN
BEGIN:VEVENT
UID:2a263d7dfda08bf01aeb648ffd54597c
DTSTAMP:20260420T184300Z
SUMMARY:4pm JFFNF WP Social Action Project
DESCRIPTION:Jewish Federation & Foundation of Northeast Florida\nCommunity 
 Calendar\nhttps://jewishjacksonville.org/jewish-federation-of-jacksonville
 -calendar/social-action-nov-24\n\nWomen's Philanthropy Social Action Proje
 ct\n\nNovember 18\n\n4:00-6:30 PM
DTSTART;TZID=America/New_York:20241118T160000
DTEND;TZID=America/New_York:20241118T183000
END:VEVENT
END:VCALENDAR
