BEGIN:VCALENDAR
PRODID:-//eluceo/ical//2.0/EN
VERSION:2.0
CALSCALE:GREGORIAN
BEGIN:VEVENT
UID:5594c4e7f12527ced7ce9f4db20f51e8
DTSTAMP:20260423T042239Z
SUMMARY:9AM JJC Siyyum Grandation
DESCRIPTION:Jewish Federation & Foundation of Northeast Florida\nCommunity 
 Calendar\nhttps://jewishjacksonville.org/jewish-federation-of-jacksonville
 -calendar/siyyum-grandation-jjc\n\nGraduation of JJC's Siyyum Students
DTSTART;TZID=America/New_York:20150516T090000
DTEND;TZID=America/New_York:20150516T170000
END:VEVENT
END:VCALENDAR
