BEGIN:VCALENDAR
PRODID:-//eluceo/ical//2.0/EN
VERSION:2.0
CALSCALE:GREGORIAN
BEGIN:VEVENT
UID:ec1cd40a16b1ceb56121563ecd8f757d
DTSTAMP:20260420T203140Z
SUMMARY:10:30AM JJC Sisterhood Board Meeting
DESCRIPTION:Jewish Federation & Foundation of Northeast Florida\nCommunity 
 Calendar\nhttps://jewishjacksonville.org/jewish-federation-of-jacksonville
 -calendar/sisterhood-board-meeting\n\nMonthly Sisterhood Board Meeting
DTSTART;TZID=America/New_York:20140730T103000
DTEND;TZID=America/New_York:20140730T120000
END:VEVENT
END:VCALENDAR
