BEGIN:VCALENDAR
PRODID:-//eluceo/ical//2.0/EN
VERSION:2.0
CALSCALE:GREGORIAN
BEGIN:VEVENT
UID:312362d2d57866fccf77a6f8efa8a507
DTSTAMP:20260422T230932Z
SUMMARY:Simchat Torah 5779
DESCRIPTION:Jewish Federation & Foundation of Northeast Florida\nCommunity 
 Calendar\nhttps://jewishjacksonville.org/jewish-federation-of-jacksonville
 -calendar/simchat-torah-5779\n\nSimchat Torah is a Jewish holiday that c
 elebrates and marks the conclusion of the annual cycle of public Torah re
 adings\, and the beginning of a new cycle. Simchat Torah is a component 
 of the Biblical Jewish holiday of Shemini Atzeret ("Eighth Day of As
 sembly")\, which follows immediately after the festival of Sukkot in the
  month of Tishrei (occurring in mid-September to early October on the G
 regorian calendar).
DTSTART;TZID=America/New_York:20181002T000000
DTEND;TZID=America/New_York:20181002T235900
END:VEVENT
END:VCALENDAR
