BEGIN:VCALENDAR
PRODID:-//eluceo/ical//2.0/EN
VERSION:2.0
CALSCALE:GREGORIAN
BEGIN:VEVENT
UID:eb541db0b54fb001a8957b52bee5d4b1
DTSTAMP:20260420T155432Z
SUMMARY:Simchat Torah 5778
DESCRIPTION:Jewish Federation & Foundation of Northeast Florida\nCommunity 
 Calendar\nhttps://jewishjacksonville.org/jewish-federation-of-jacksonville
 -calendar/simchat-torah-5778\n\nSimchat Torah is a Jewish holiday that ce
 lebrates and marks the conclusion of the annual cycle of public Torah rea
 dings\, and the beginning of a new cycle. Simchat Torah is a component of 
 the Biblical Jewish holiday of Shemini Atzeret ("Eighth Day of Assemb
 ly")\, which follows immediately after the festival of Sukkot in the mon
 th of Tishrei (occurring in mid-September to early October on the Grego
 rian calendar).
DTSTART;TZID=America/New_York:20171013T000000
DTEND;TZID=America/New_York:20171013T235900
END:VEVENT
END:VCALENDAR
