BEGIN:VCALENDAR
PRODID:-//eluceo/ical//2.0/EN
VERSION:2.0
CALSCALE:GREGORIAN
BEGIN:VEVENT
UID:26661a8f21f1dc35bc2ee51b7477076b
DTSTAMP:20260425T163741Z
SUMMARY:Simchat Torah
DESCRIPTION:Jewish Federation & Foundation of Northeast Florida\nCommunity 
 Calendar\nhttps://jewishjacksonville.org/jewish-federation-of-jacksonville
 -calendar/simchat-torah\n\nHoliday - Simchat Torah
DTSTART;TZID=America/New_York:20141017T000000
DTEND;TZID=America/New_York:20141017T235500
END:VEVENT
END:VCALENDAR
