BEGIN:VCALENDAR
PRODID:-//eluceo/ical//2.0/EN
VERSION:2.0
CALSCALE:GREGORIAN
BEGIN:VEVENT
UID:8e2ed6236e14f59eb09d9b5af8a892a4
DTSTAMP:20260421T080344Z
SUMMARY:Shavuot 5778
DESCRIPTION:Jewish Federation & Foundation of Northeast Florida\nCommunity 
 Calendar\nhttps://jewishjacksonville.org/jewish-federation-of-jacksonville
 -calendar/shavuot-5778\n\nShavuot (a two-day holiday) coincides with the 
 date that G‑d gave the Torah to the Jewish people at Mount Sinai more
  than 3\,300 years ago. It comes after 49 days of eager counting\, as we 
 prepared ourselves for this special day.\n\nIt is celebrated by lighting c
 andles\, staying up all night to learn Torah\, hearing the reading of th
 e Ten Commandments in synagogue\, feasting on dairy foods and more.
DTSTART;TZID=America/New_York:20180520T000000
DTEND;TZID=America/New_York:20180521T235900
END:VEVENT
END:VCALENDAR
