BEGIN:VCALENDAR
PRODID:-//eluceo/ical//2.0/EN
VERSION:2.0
CALSCALE:GREGORIAN
BEGIN:VEVENT
UID:3017602f5a1ebc8a397346360213d768
DTSTAMP:20260421T132640Z
SUMMARY:Shalom Jax Jewish Genealogy Film
DESCRIPTION:Jewish Federation & Foundation of Northeast Florida\nCommunity 
 Calendar\nhttps://jewishjacksonville.org/jewish-federation-of-jacksonville
 -calendar/shalom-jax-jewish-genealogy-film\n\n30-minute film\, 99 Geiger R
 oad\, followed by discussion led by Stacey Goldring.
DTSTART;TZID=America/New_York:20180819T130000
DTEND;TZID=America/New_York:20180819T150000
END:VEVENT
END:VCALENDAR
