BEGIN:VCALENDAR
PRODID:-//eluceo/ical//2.0/EN
VERSION:2.0
CALSCALE:GREGORIAN
BEGIN:VEVENT
UID:926c27212af3c7cbeb1b0d84db2a41db
DTSTAMP:20260420T124111Z
SUMMARY:Shabbaton at Etz Chaim with Rabbi Yossi Bensoussan
DESCRIPTION:Jewish Federation & Foundation of Northeast Florida\nCommunity 
 Calendar\nhttps://jewishjacksonville.org/jewish-federation-of-jacksonville
 -calendar/shabbaton-with-rabbi-yossi-bensoussan\n\nCome join Rabbi Yossi B
 ensoussan at Etz Chaim for an inspriing and uplifiting Shabbaton.\n\nRabbi
  Yossi Bensoussan has been teaching teenagers from all walks of life and f
 rom all backgrounds for the past 12 years. With his laid-back attitude and
  trademark sense of humor\, Rabbi Yossi gives over the teachings of his Re
 bbeim\, Rabbi Yitzchok Berkowitz and Harav Asher Zelig Rubenstein\, in Yes
 hiva high school of Cleveland. Rabbi Yossi lectures and counsels on issues
  involving teenagers and motivati...
DTSTART;TZID=America/New_York:20230120T170000
DTEND;TZID=America/New_York:20230121T215500
END:VEVENT
END:VCALENDAR
