BEGIN:VCALENDAR
PRODID:-//eluceo/ical//2.0/EN
VERSION:2.0
CALSCALE:GREGORIAN
BEGIN:VEVENT
UID:0250c9f24e764d1f193aad45139dedc1
DTSTAMP:20260426T032013Z
SUMMARY:Shabbat Shira Weekend
DESCRIPTION:Jewish Federation & Foundation of Northeast Florida\nCommunity 
 Calendar\nhttps://jewishjacksonville.org/jewish-federation-of-jacksonville
 -calendar/shabbat-shira-weekend\n\nJJC Musical Weekend
DTSTART;TZID=America/New_York:20160122T080000
DTEND;TZID=America/New_York:20160124T230000
END:VEVENT
END:VCALENDAR
