BEGIN:VCALENDAR
PRODID:-//eluceo/ical//2.0/EN
VERSION:2.0
CALSCALE:GREGORIAN
BEGIN:VEVENT
UID:5515aeeb7af4beddbf539adc42540654
DTSTAMP:20260425T233937Z
SUMMARY:Shabbat Morning Services (Rosh Hashanah Day 1)
DESCRIPTION:Jewish Federation & Foundation of Northeast Florida\nCommunity 
 Calendar\nhttps://jewishjacksonville.org/jewish-federation-of-jacksonville
 -calendar/shabbat-morning-services-rosh-hashanah-day-1\n\nPlease join us f
 or Shabbat morning services (Rosh Hashanah Day 1). For times of our Contem
 porary Nashuva Service\, programs for youth in grades K-12\, and Gan Shabb
 at please look on our website www.jaxjewishcenter.org.\n\n\n\n If you ar
 e not a member\, we provide tickets to members in good standing of another
  synagogue or those who don't currently call another synagogue home can pu
 rchase tickets\,\n\nPlease contact the Center for additional information.
DTSTART;TZID=America/New_York:20230916T080000
DTEND;TZID=America/New_York:20230916T120000
END:VEVENT
END:VCALENDAR
