BEGIN:VCALENDAR
PRODID:-//eluceo/ical//2.0/EN
VERSION:2.0
CALSCALE:GREGORIAN
BEGIN:VEVENT
UID:8117aebc1f57f0b18bae313db71c6bad
DTSTAMP:20260424T230205Z
SUMMARY:Sensitivity Training for Day School Students
DESCRIPTION:Jewish Federation & Foundation of Northeast Florida\nCommunity 
 Calendar\nhttps://jewishjacksonville.org/jewish-federation-of-jacksonville
 -calendar/sensitivity-training-for-day-school-students\n\nFor more informa
 tion please contact Cindy Land at 904.394.5760
DTSTART;TZID=America/New_York:20150223T090000
DTEND;TZID=America/New_York:20150223T150000
END:VEVENT
END:VCALENDAR
