BEGIN:VCALENDAR
PRODID:-//eluceo/ical//2.0/EN
VERSION:2.0
CALSCALE:GREGORIAN
BEGIN:VEVENT
UID:a907a8d088422f532c65f32c45d82c5d
DTSTAMP:20260421T225228Z
SUMMARY:Safer Shabbaton Weekend
DESCRIPTION:Jewish Federation & Foundation of Northeast Florida\nCommunity 
 Calendar\nhttps://jewishjacksonville.org/jewish-federation-of-jacksonville
 -calendar/safer-shabbaton-weekend\n\nAnnual Safer Shabbaton Weekend
DTSTART;TZID=America/New_York:20160226T082500
DTEND;TZID=America/New_York:20160228T235500
END:VEVENT
END:VCALENDAR
