BEGIN:VCALENDAR
PRODID:-//eluceo/ical//2.0/EN
VERSION:2.0
CALSCALE:GREGORIAN
BEGIN:VEVENT
UID:ef3f1a85af80204d05ef9fd18a864b0e
DTSTAMP:20260424T001234Z
SUMMARY:7PM FUNDRAISER River Garden Annual Gala
DESCRIPTION:Jewish Federation & Foundation of Northeast Florida\nCommunity 
 Calendar\nhttps://jewishjacksonville.org/jewish-federation-of-jacksonville
 -calendar/rundraiserriver-garden-annual-gala\n\nFUNDRAISER - River Garden'
 s largest fundraising event
DTSTART;TZID=America/New_York:20161112T190000
DTEND;TZID=America/New_York:20161112T234500
END:VEVENT
END:VCALENDAR
