BEGIN:VCALENDAR
PRODID:-//eluceo/ical//2.0/EN
VERSION:2.0
CALSCALE:GREGORIAN
BEGIN:VEVENT
UID:7ca0992aa10b2e28f8be55de7cabcd64
DTSTAMP:20260425T102017Z
SUMMARY:Rosh Hashanah 5778
DESCRIPTION:Jewish Federation & Foundation of Northeast Florida\nCommunity 
 Calendar\nhttps://jewishjacksonville.org/jewish-federation-of-jacksonville
 -calendar/rosh-hashanah-5778\n\nWhat: It is the birthday of the universe\
 , the day G‑d created Adam and Eve\, and it’s celebrated as the head
  of the Jewish year.\n\n\n\nWhen: The first two days of the Jewish year\,
  Tishrei 1 and 2\, beginning at sundown on the eve of Tishrei 1 (check o
 ut this year’s date).\n\n\n\nHow: Candle lighting in the evenings\, f
 estive meals with sweet delicacies during the night and day\, prayer serv
 ices that include the sounding of the ram’s horn (shofar) on both mor
 nings\, and desi...
DTSTART;TZID=America/New_York:20170921T200000
DTEND;TZID=America/New_York:20170922T200000
END:VEVENT
END:VCALENDAR
