BEGIN:VCALENDAR
PRODID:-//eluceo/ical//2.0/EN
VERSION:2.0
CALSCALE:GREGORIAN
BEGIN:VEVENT
UID:22f3c00198e6db17465d62470cf6177f
DTSTAMP:20260425T133407Z
SUMMARY:River Garden - Yom HaShoah Program
DESCRIPTION:Jewish Federation & Foundation of Northeast Florida\nCommunity 
 Calendar\nhttps://jewishjacksonville.org/jewish-federation-of-jacksonville
 -calendar/river-garden-yom-hashoah-program\n\nPlease join us for our annua
 l commemorative program and candle lighting featuring second and third-g
 eneration survivors Irene and Andrew Jaffa.\n\nIn partnership with the Res
 ist Hate\, Repair the World Speakers Bureau\, presented by the LJD Jewish
  Family & Community Services.
DTSTART;TZID=America/New_York:20240506T140000
DTEND;TZID=America/New_York:20240506T150000
END:VEVENT
END:VCALENDAR
