BEGIN:VCALENDAR
PRODID:-//eluceo/ical//2.0/EN
VERSION:2.0
CALSCALE:GREGORIAN
BEGIN:VEVENT
UID:7bee6e60db6dff8068d198f90dac5c1f
DTSTAMP:20260423T025009Z
SUMMARY:5:45 PM River Garden Senior Services Board Meeting
DESCRIPTION:Jewish Federation & Foundation of Northeast Florida\nCommunity 
 Calendar\nhttps://jewishjacksonville.org/jewish-federation-of-jacksonville
 -calendar/river-garden-senior-services-board-meeting624\n\nRiver Garden Se
 nior Services monthly board meeting
DTSTART;TZID=America/New_York:20190624T174500
DTEND;TZID=America/New_York:20190624T184500
END:VEVENT
END:VCALENDAR
