BEGIN:VCALENDAR
PRODID:-//eluceo/ical//2.0/EN
VERSION:2.0
CALSCALE:GREGORIAN
BEGIN:VEVENT
UID:8de1ecff8a969496c44469c4656c62d7
DTSTAMP:20260421T025043Z
SUMMARY:River Garden Senior Services board meeting
DESCRIPTION:Jewish Federation & Foundation of Northeast Florida\nCommunity 
 Calendar\nhttps://jewishjacksonville.org/jewish-federation-of-jacksonville
 -calendar/river-garden-senior-services-board-meeting\n\nRG Senior Services
  board meeting
DTSTART;TZID=America/New_York:20130923T173000
DTEND;TZID=America/New_York:20130923T183000
END:VEVENT
END:VCALENDAR
