BEGIN:VCALENDAR
PRODID:-//eluceo/ical//2.0/EN
VERSION:2.0
CALSCALE:GREGORIAN
BEGIN:VEVENT
UID:4593a32ce7b26c8253915639b6651345
DTSTAMP:20260421T025123Z
SUMMARY:River Garden Home Board meeting
DESCRIPTION:Jewish Federation & Foundation of Northeast Florida\nCommunity 
 Calendar\nhttps://jewishjacksonville.org/jewish-federation-of-jacksonville
 -calendar/river-garden-home-board-meeting219\n\nRiver Garden Home monthly 
 board meeting
DTSTART;TZID=America/New_York:20190225T190000
DTEND;TZID=America/New_York:20190225T210000
END:VEVENT
END:VCALENDAR
