BEGIN:VCALENDAR
PRODID:-//eluceo/ical//2.0/EN
VERSION:2.0
CALSCALE:GREGORIAN
BEGIN:VEVENT
UID:03787e5f21dd0c21e73594f7dec92724
DTSTAMP:20260425T120812Z
SUMMARY:River Garden Home Board meeting
DESCRIPTION:Jewish Federation & Foundation of Northeast Florida\nCommunity 
 Calendar\nhttps://jewishjacksonville.org/jewish-federation-of-jacksonville
 -calendar/river-garden-home-board-meeting119\n\nRiver Garden Home monthly 
 board meeting
DTSTART;TZID=America/New_York:20190128T190000
DTEND;TZID=America/New_York:20190128T210000
END:VEVENT
END:VCALENDAR
