BEGIN:VCALENDAR
PRODID:-//eluceo/ical//2.0/EN
VERSION:2.0
CALSCALE:GREGORIAN
BEGIN:VEVENT
UID:d13ac9878f8daa5c36f8abc19a1d8bf5
DTSTAMP:20260425T215609Z
SUMMARY:River Garden Home Board Meeting
DESCRIPTION:Jewish Federation & Foundation of Northeast Florida\nCommunity 
 Calendar\nhttps://jewishjacksonville.org/jewish-federation-of-jacksonville
 -calendar/river-garden-home-board-meeting102018\n\nRiver Garden Home Board
  Meeting
DTSTART;TZID=America/New_York:20181022T190000
DTEND;TZID=America/New_York:20181022T210000
END:VEVENT
END:VCALENDAR
