BEGIN:VCALENDAR
PRODID:-//eluceo/ical//2.0/EN
VERSION:2.0
CALSCALE:GREGORIAN
BEGIN:VEVENT
UID:e8dd0ca9193113a8cf2fe9902c8239d9
DTSTAMP:20260422T125804Z
SUMMARY:10:00 AM - River Garden Gala decoration committee meeting
DESCRIPTION:Jewish Federation & Foundation of Northeast Florida\nCommunity 
 Calendar\nhttps://jewishjacksonville.org/jewish-federation-of-jacksonville
 -calendar/river-garden-gala-decoration-committee-meeting2017\n\nRG Gala 20
 17 decorations meeting
DTSTART;TZID=America/New_York:20170323T100000
DTEND;TZID=America/New_York:20170323T130000
END:VEVENT
END:VCALENDAR
