BEGIN:VCALENDAR
PRODID:-//eluceo/ical//2.0/EN
VERSION:2.0
CALSCALE:GREGORIAN
BEGIN:VEVENT
UID:2c84e1d5fccd5a16e109b339903ab36b
DTSTAMP:20260423T025039Z
SUMMARY:River Garden Gala Committee opening luncheon
DESCRIPTION:Jewish Federation & Foundation of Northeast Florida\nCommunity 
 Calendar\nhttps://jewishjacksonville.org/jewish-federation-of-jacksonville
 -calendar/river-garden-gala-committee-opening-luncheon2018\n\nRiver Garden
  Foundation Gala committee opening meeting
DTSTART;TZID=America/New_York:20180301T110000
DTEND;TZID=America/New_York:20180301T130000
END:VEVENT
END:VCALENDAR
